BEGIN:VCALENDAR
VERSION:2.0
PRODID:-//Osiris Conseil - ECPv6.11.2.1//NONSGML v1.0//EN
CALSCALE:GREGORIAN
METHOD:PUBLISH
X-ORIGINAL-URL:https://www.osiris-conseil.com
X-WR-CALDESC:Évènements pour Osiris Conseil
REFRESH-INTERVAL;VALUE=DURATION:PT1H
X-Robots-Tag:noindex
X-PUBLISHED-TTL:PT1H
BEGIN:VTIMEZONE
TZID:Europe/Helsinki
BEGIN:DAYLIGHT
TZOFFSETFROM:+0200
TZOFFSETTO:+0300
TZNAME:EEST
DTSTART:20160327T010000
END:DAYLIGHT
BEGIN:STANDARD
TZOFFSETFROM:+0300
TZOFFSETTO:+0200
TZNAME:EET
DTSTART:20161030T010000
END:STANDARD
BEGIN:DAYLIGHT
TZOFFSETFROM:+0200
TZOFFSETTO:+0300
TZNAME:EEST
DTSTART:20170326T010000
END:DAYLIGHT
BEGIN:STANDARD
TZOFFSETFROM:+0300
TZOFFSETTO:+0200
TZNAME:EET
DTSTART:20171029T010000
END:STANDARD
BEGIN:DAYLIGHT
TZOFFSETFROM:+0200
TZOFFSETTO:+0300
TZNAME:EEST
DTSTART:20180325T010000
END:DAYLIGHT
BEGIN:STANDARD
TZOFFSETFROM:+0300
TZOFFSETTO:+0200
TZNAME:EET
DTSTART:20181028T010000
END:STANDARD
BEGIN:DAYLIGHT
TZOFFSETFROM:+0200
TZOFFSETTO:+0300
TZNAME:EEST
DTSTART:20190331T010000
END:DAYLIGHT
BEGIN:STANDARD
TZOFFSETFROM:+0300
TZOFFSETTO:+0200
TZNAME:EET
DTSTART:20191027T010000
END:STANDARD
BEGIN:DAYLIGHT
TZOFFSETFROM:+0200
TZOFFSETTO:+0300
TZNAME:EEST
DTSTART:20200329T010000
END:DAYLIGHT
BEGIN:STANDARD
TZOFFSETFROM:+0300
TZOFFSETTO:+0200
TZNAME:EET
DTSTART:20201025T010000
END:STANDARD
BEGIN:DAYLIGHT
TZOFFSETFROM:+0200
TZOFFSETTO:+0300
TZNAME:EEST
DTSTART:20210328T010000
END:DAYLIGHT
BEGIN:STANDARD
TZOFFSETFROM:+0300
TZOFFSETTO:+0200
TZNAME:EET
DTSTART:20211031T010000
END:STANDARD
END:VTIMEZONE
BEGIN:VTIMEZONE
TZID:Europe/Paris
BEGIN:DAYLIGHT
TZOFFSETFROM:+0100
TZOFFSETTO:+0200
TZNAME:CEST
DTSTART:20150329T010000
END:DAYLIGHT
BEGIN:STANDARD
TZOFFSETFROM:+0200
TZOFFSETTO:+0100
TZNAME:CET
DTSTART:20151025T010000
END:STANDARD
BEGIN:DAYLIGHT
TZOFFSETFROM:+0100
TZOFFSETTO:+0200
TZNAME:CEST
DTSTART:20160327T010000
END:DAYLIGHT
BEGIN:STANDARD
TZOFFSETFROM:+0200
TZOFFSETTO:+0100
TZNAME:CET
DTSTART:20161030T010000
END:STANDARD
BEGIN:DAYLIGHT
TZOFFSETFROM:+0100
TZOFFSETTO:+0200
TZNAME:CEST
DTSTART:20170326T010000
END:DAYLIGHT
BEGIN:STANDARD
TZOFFSETFROM:+0200
TZOFFSETTO:+0100
TZNAME:CET
DTSTART:20171029T010000
END:STANDARD
END:VTIMEZONE
BEGIN:VEVENT
DTSTART;TZID=Europe/Helsinki:20210709T090000
DTEND;TZID=Europe/Helsinki:20210709T120000
DTSTAMP:20260419T185627
CREATED:20210312T162914Z
LAST-MODIFIED:20210312T162914Z
UID:7008-1625821200-1625832000@www.osiris-conseil.com
SUMMARY:Supervision 2021 - Cycle 1 Session 3
DESCRIPTION:La Supervision pour les coachs certifiés\nSuperviser un coach\, c’est l’inviter à élaborer une vision « supérieure » de son « être-coach ».\nC’est lui offrir un espace sécurisant pour qu’il puisse approfondir sa pratique\, son développement professionnel et cheminer vers le dépassement des obstacles qu’il rencontre dans son métier de coach. Plus d’informations sur la Supervision. \nDurée : 5 sessions de 3 heures toutes les 6/8 semaines par cycle. \n\n					Ce module correspond au troisième module de 3 heures.\nVoir toutes les dates des prochaines sessions de formation à la Supervision. \n\n					Le prix indiqué s’entend HT. Soit 1350€ les 5 sessions.
URL:https://www.osiris-conseil.com/event/supervision-2021-cycle-1-session-3-20210709
LOCATION:Distanciel
CATEGORIES:Formations,Supervision
END:VEVENT
BEGIN:VEVENT
DTSTART;TZID=Europe/Helsinki:20210514T090000
DTEND;TZID=Europe/Helsinki:20210514T120000
DTSTAMP:20260419T185627
CREATED:20210312T162733Z
LAST-MODIFIED:20210312T162733Z
UID:7006-1620982800-1620993600@www.osiris-conseil.com
SUMMARY:Supervision 2021 - Cycle 1 Session 2
DESCRIPTION:La Supervision pour les coachs certifiés\nSuperviser un coach\, c’est l’inviter à élaborer une vision « supérieure » de son « être-coach ».\nC’est lui offrir un espace sécurisant pour qu’il puisse approfondir sa pratique\, son développement professionnel et cheminer vers le dépassement des obstacles qu’il rencontre dans son métier de coach. Plus d’informations sur la Supervision. \nDurée : 5 sessions de 3 heures toutes les 6/8 semaines par cycle. \n\n					Ce module correspond au second module de 3 heures.\nVoir toutes les dates des prochaines sessions de formation à la Supervision. \n\n					Le prix indiqué s’entend HT. Soit 1350€ les 5 sessions.
URL:https://www.osiris-conseil.com/event/supervision-2021-cycle-1-session-2-20210514
LOCATION:Distanciel
CATEGORIES:Formations,Supervision
END:VEVENT
BEGIN:VEVENT
DTSTART;TZID=Europe/Helsinki:20210312T090000
DTEND;TZID=Europe/Helsinki:20210312T120000
DTSTAMP:20260419T185627
CREATED:20210312T160617Z
LAST-MODIFIED:20210312T162509Z
UID:7001-1615539600-1615550400@www.osiris-conseil.com
SUMMARY:Supervision 2021 - Cycle 1 Session 1
DESCRIPTION:La Supervision pour les coachs certifiés\nSuperviser un coach\, c’est l’inviter à élaborer une vision « supérieure » de son « être-coach ».\nC’est lui offrir un espace sécurisant pour qu’il puisse approfondir sa pratique\, son développement professionnel et cheminer vers le dépassement des obstacles qu’il rencontre dans son métier de coach. Plus d’informations sur la Supervision. \nDurée : 5 sessions de 3 heures toutes les 6/8 semaines par cycle. \n\n					Ce module correspond au premier module de 3 heures.\nVoir toutes les dates des prochaines sessions de formation à la Supervision. \n\n					Le prix indiqué s’entend HT. Soit 1350€ les 5 sessions.
URL:https://www.osiris-conseil.com/event/supervision-2021-cycle-1-session-1-20210312
LOCATION:Distanciel
CATEGORIES:Formations,Supervision
END:VEVENT
BEGIN:VEVENT
DTSTART;VALUE=DATE:20200610
DTEND;VALUE=DATE:20200613
DTSTAMP:20260419T185627
CREATED:20190516T154905Z
LAST-MODIFIED:20190516T154905Z
UID:2688-1591747200-1592006399@www.osiris-conseil.com
SUMMARY:Supervision 2019/20 - Module 3
DESCRIPTION:Former les coaches à la Supervision individuelle et collective\, et devenir Superviseur. \nPlus d’informations sur la Supervision. \nDurée : 7½ jours répartis sur trois modules de 2½ jours. \n\n					Ce module correspond au troisième et dernier module de 2½ jours.\nVoir toutes les dates des prochaines sessions de formation à la Supervision. \n\n					Le prix indiqué s’entend HT. Soit 1065€ le module ou 3025€ l’année pour – 10 salariés\, et 1410€ le module ou 3953€ l’année pour + 10 salariés. Il correspond aux 7½ jours de formation de cette promotion 2019/20.
URL:https://www.osiris-conseil.com/event/supervision-d-201920-module-3-20200610
LOCATION:Osiris Conseil – Centre de formation\, 33 rue du Montoir\, Vernou\, 77670\, France
CATEGORIES:Formations,Supervision
END:VEVENT
BEGIN:VEVENT
DTSTART;VALUE=DATE:20200205
DTEND;VALUE=DATE:20200208
DTSTAMP:20260419T185627
CREATED:20190516T154312Z
LAST-MODIFIED:20190516T154350Z
UID:2685-1580860800-1581119999@www.osiris-conseil.com
SUMMARY:Supervision 2019/20 - Module 2
DESCRIPTION:Former les coaches à la Supervision individuelle et collective\, et devenir Superviseur. \nPlus d’informations sur la Supervision. \nDurée : 7½ jours répartis sur trois modules de 2½ jours. \n\n					Ce module correspond au second module de 2½ jours.\nVoir toutes les dates des prochaines sessions de formation à la Supervision. \n\n					Le prix indiqué s’entend HT. Soit 1065€ le module ou 3025€ l’année pour – 10 salariés\, et 1410€ le module ou 3953€ l’année pour + 10 salariés. Il correspond aux 7½ jours de formation de cette promotion 2019/20.
URL:https://www.osiris-conseil.com/event/supervision-d-201920-module-2-20200205
LOCATION:Osiris Conseil – Centre de formation\, 33 rue du Montoir\, Vernou\, 77670\, France
CATEGORIES:Formations,Supervision
END:VEVENT
BEGIN:VEVENT
DTSTART;VALUE=DATE:20191106
DTEND;VALUE=DATE:20191109
DTSTAMP:20260419T185627
CREATED:20190516T153648Z
LAST-MODIFIED:20190516T153843Z
UID:2683-1572998400-1573257599@www.osiris-conseil.com
SUMMARY:Supervision 2019/20 - Module 1
DESCRIPTION:Former les coaches à la Supervision individuelle et collective\, et devenir Superviseur. \nPlus d’informations sur la Supervision. \nDurée : 7½ jours répartis sur trois modules de 2½ jours. \n\n					Ce module correspond au premier module de 2½ jours.\nVoir toutes les dates des prochaines sessions de formation à la Supervision. \n\n					Le prix indiqué s’entend HT. Soit 1065€ le module ou 3025€ l’année pour – 10 salariés\, et 1410€ le module ou 3953€ l’année pour + 10 salariés. Il correspond aux 7½ jours de formation de cette promotion 2019/20.
URL:https://www.osiris-conseil.com/event/supervision-d-201920-module-1-20191106
LOCATION:Osiris Conseil – Centre de formation\, 33 rue du Montoir\, Vernou\, 77670\, France
CATEGORIES:Formations,Supervision
END:VEVENT
BEGIN:VEVENT
DTSTART;VALUE=DATE:20190612
DTEND;VALUE=DATE:20190615
DTSTAMP:20260419T185627
CREATED:20180125T184829Z
LAST-MODIFIED:20190117T072852Z
UID:2282-1560297600-1560556799@www.osiris-conseil.com
SUMMARY:Supervision 2018/19 - Module 3
DESCRIPTION:Former les coaches à la Supervision individuelle et collective\, et devenir Superviseur. \nPlus d’informations sur la Supervision. \nDurée : 7½ jours répartis sur trois modules de 2½ jours. \n\n					Ce module correspond au troisième et dernier module de 2½ jours. Dernier module de cette promotion 2018/19.\nVoir toutes les dates des prochaines sessions de formation à la Supervision. \n\n					Le prix indiqué s’entend HT. Soit 1044€ le module ou 2966€ l’année pour – 10 salariés\, et 1382€ le module ou 3876€ l’année pour + 10 salariés. Il correspond aux 7½ jours de formation de cette promotion 2018/19.
URL:https://www.osiris-conseil.com/event/supervision-d-201819-module-2-20180606-2
LOCATION:Osiris Conseil – Centre de formation\, 33 rue du Montoir\, Vernou\, 77670\, France
CATEGORIES:Formations,Supervision
END:VEVENT
BEGIN:VEVENT
DTSTART;VALUE=DATE:20190206
DTEND;VALUE=DATE:20190209
DTSTAMP:20260419T185627
CREATED:20180125T184515Z
LAST-MODIFIED:20190117T072841Z
UID:2280-1549411200-1549670399@www.osiris-conseil.com
SUMMARY:Supervision 2018/19 - Module 2
DESCRIPTION:Former les coaches à la Supervision individuelle et collective\, et devenir Superviseur. \nPlus d’informations sur la Supervision. \nDurée : 7½ jours répartis sur trois modules de 2½ jours. \n\n					Ce module correspond au second module de 2½ jours. Dernier module de cette promotion\, le 14 juin 2019 .\nVoir toutes les dates des prochaines sessions de formation à la Supervision. \n\n					Le prix indiqué s’entend HT. Soit 1044€ le module ou 2966€ l’année pour – 10 salariés\, et 1382€ le module ou 3876€ l’année pour + 10 salariés. Il correspond aux 7½ jours de formation de cette promotion 2018/19.
URL:https://www.osiris-conseil.com/event/supervision-d-201819-module-2-20180606
LOCATION:Osiris Conseil – Centre de formation\, 33 rue du Montoir\, Vernou\, 77670\, France
CATEGORIES:Formations,Supervision
END:VEVENT
BEGIN:VEVENT
DTSTART;VALUE=DATE:20180926
DTEND;VALUE=DATE:20180929
DTSTAMP:20260419T185627
CREATED:20180125T184239Z
LAST-MODIFIED:20190117T072829Z
UID:2278-1537920000-1538179199@www.osiris-conseil.com
SUMMARY:Supervision 2018/19 - Module 1
DESCRIPTION:Former les coaches à la Supervision individuelle et collective\, et devenir Superviseur. \nPlus d’informations sur la Supervision. \nDurée : 7½ jours répartis sur trois modules de 2½ jours. \n\n					Ce module correspond au premier module de 2½ jours. Dernier module de cette promotion\, le 14 juin 2019 .\nVoir toutes les dates des prochaines sessions de formation à la Supervision. \n\n					Le prix indiqué s’entend HT. Soit 1044€ le module ou 2966€ l’année pour – 10 salariés\, et 1382€ le module ou 3876€ l’année pour + 10 salariés. Il correspond aux 7½ jours de formation de cette promotion 2018/19.
URL:https://www.osiris-conseil.com/event/supervision-d-201819-module-1-20180926
LOCATION:Osiris Conseil – Centre de formation\, 33 rue du Montoir\, Vernou\, 77670\, France
CATEGORIES:Formations,Supervision
END:VEVENT
BEGIN:VEVENT
DTSTART;VALUE=DATE:20180606
DTEND;VALUE=DATE:20180609
DTSTAMP:20260419T185627
CREATED:20170519T103400Z
LAST-MODIFIED:20180125T183735Z
UID:1896-1528243200-1528502399@www.osiris-conseil.com
SUMMARY:Supervision D 2017/18 - Module 3
DESCRIPTION:Former les coaches à la Supervision individuelle et collective\, et devenir Superviseur. \nPlus d’informations sur la Supervision. \nDurée : 7½ jours répartis sur trois modules de 2½ jours. \n\n					Ce module correspond au troisième module de 2½ jours. Dernier module de cette promotion\, le 8 juin 2018 .\nVoir toutes les dates des sessions de la Supervision. \n\n					Le prix indiqué s’entend HT. Soit 1024€ le module ou 2908€ l’année pour – 10 salariés\, et 1355€ le module ou 3800€ l’année pour + 10 salariés. Il correspond aux 7½ jours de formation de cette promotion 2017/18.
URL:https://www.osiris-conseil.com/event/supervision-d-201718-module-3-20180606
LOCATION:Osiris Conseil – Centre de formation\, 33 rue du Montoir\, Vernou\, 77670\, France
CATEGORIES:Formations,Supervision
END:VEVENT
BEGIN:VEVENT
DTSTART;VALUE=DATE:20180307
DTEND;VALUE=DATE:20180310
DTSTAMP:20260419T185627
CREATED:20170519T103216Z
LAST-MODIFIED:20180125T183453Z
UID:1894-1520380800-1520639999@www.osiris-conseil.com
SUMMARY:Supervision D 2017/18 - Module 2
DESCRIPTION:Former les coaches à la Supervision individuelle et collective\, et devenir Superviseur. \nPlus d’informations sur la Supervision. \nDurée : 7½ jours répartis sur trois modules de 2½ jours. \n\n					Ce module correspond au deuxième module de 2½ jours. Dernier module de cette promotion\, le 8 juin 2018 .\nVoir toutes les dates des sessions de la Supervision. \n\n					Le prix indiqué s’entend HT. Soit 1024€ le module ou 2908€ l’année pour – 10 salariés\, et 1355€ le module ou 3800€ l’année pour + 10 salariés. Il correspond aux 7½ jours de formation de cette promotion 2017/18.
URL:https://www.osiris-conseil.com/event/supervision-d-201718-module-2-20180307
LOCATION:Osiris Conseil – Centre de formation\, 33 rue du Montoir\, Vernou\, 77670\, France
CATEGORIES:Formations,Supervision
END:VEVENT
BEGIN:VEVENT
DTSTART;VALUE=DATE:20171108
DTEND;VALUE=DATE:20171111
DTSTAMP:20260419T185627
CREATED:20170120T142112Z
LAST-MODIFIED:20170519T103102Z
UID:1745-1510099200-1510358399@www.osiris-conseil.com
SUMMARY:Supervision D 2017/18 - Module 1
DESCRIPTION:Former les coaches à la Supervision individuelle et collective\, et devenir Superviseur. \nPlus d’informations sur la Supervision. \nDurée : 7½ jours répartis sur trois modules de 2½ jours. \n\n					Ce module correspond au premier module de 2½ jours. Dernier module de cette promotion\, le 8 juin 2018 .\nVoir toutes les dates des sessions de la Supervision. \n\n					Le prix indiqué s’entend HT. Soit 1024€ le module ou 2908€ l’année pour – 10 salariés\, et 1355€ le module ou 3800€ l’année pour + 10 salariés. Il correspond aux 7½ jours de formation de cette promotion 2017/18.
URL:https://www.osiris-conseil.com/event/supervision-d-201718-module-1-20171108
LOCATION:Osiris Conseil – Centre de formation\, 33 rue du Montoir\, Vernou\, 77670\, France
CATEGORIES:Formations,Supervision
END:VEVENT
BEGIN:VEVENT
DTSTART;VALUE=DATE:20170510
DTEND;VALUE=DATE:20170513
DTSTAMP:20260419T185627
CREATED:20160308T120125Z
LAST-MODIFIED:20160308T120315Z
UID:1070-1494374400-1494633599@www.osiris-conseil.com
SUMMARY:Supervision D 2016/17 - Module 3
DESCRIPTION:Former les coaches à la Supervision individuelle et collective\, et devenir Superviseur. \nPlus d’informations sur la Supervision. \nDurée : 7½ jours répartis sur trois modules de 2½ jours. \n\n					Ce module correspond au troisième et dernier module de 2½ jours de cette promotion.\nVoir toutes les dates des sessions de la Supervision. \n\n					Le prix indiqué s’entend HT. Soit 1004€ le module ou 2851€ l’année pour – 10 salariés\, et 1328€ le module ou 3725€ l’année pour + 10 salariés. Il correspond aux 7½ jours de formation de cette promotion 2016/17.
URL:https://www.osiris-conseil.com/event/supervision-d-201617-module-3-20170510
LOCATION:Osiris Conseil – Centre de formation\, 33 rue du Montoir\, Vernou\, 77670\, France
CATEGORIES:Formations,Supervision
END:VEVENT
BEGIN:VEVENT
DTSTART;VALUE=DATE:20170118
DTEND;VALUE=DATE:20170121
DTSTAMP:20260419T185627
CREATED:20160308T115802Z
LAST-MODIFIED:20160308T115802Z
UID:1069-1484697600-1484956799@www.osiris-conseil.com
SUMMARY:Supervision D 2016/17 - Module 2
DESCRIPTION:Former les coaches à la Supervision individuelle et collective\, et devenir Superviseur. \nPlus d’informations sur la Supervision. \nDurée : 7½ jours répartis sur trois modules de 2½ jours. \n\n					Ce module correspond au second module de 2½ jours. Dernier module de cette promotion : du 10 au 12 mai 2017.\nVoir toutes les dates des sessions de la Supervision. \n\n					Le prix indiqué s’entend HT. Soit 1004€ le module ou 2851€ l’année pour – 10 salariés\, et 1328€ le module ou 3725€ l’année pour + 10 salariés. Il correspond aux 7½ jours de formation de cette promotion 2016/17.
URL:https://www.osiris-conseil.com/event/supervision-d-201617-module-2-20170118
LOCATION:Osiris Conseil – Centre de formation\, 33 rue du Montoir\, Vernou\, 77670\, France
CATEGORIES:Formations,Supervision
END:VEVENT
BEGIN:VEVENT
DTSTART;VALUE=DATE:20160928
DTEND;VALUE=DATE:20161001
DTSTAMP:20260419T185627
CREATED:20160308T115454Z
LAST-MODIFIED:20160308T115454Z
UID:1068-1475020800-1475279999@www.osiris-conseil.com
SUMMARY:Supervision D 2016/17 - Module 1
DESCRIPTION:Former les coaches à la Supervision individuelle et collective\, et devenir Superviseur. \nPlus d’informations sur la Supervision. \nDurée : 7½ jours répartis sur trois modules de 2½ jours. \n\n					Ce module correspond au premier module de 2½ jours. Dernier module de cette promotion : du 10 au 12 mai 2017.\nVoir toutes les dates des sessions de la Supervision. \n\n					Le prix indiqué s’entend HT. Soit 1004€ le module ou 2851€ l’année pour – 10 salariés\, et 1328€ le module ou 3725€ l’année pour + 10 salariés. Il correspond aux 7½ jours de formation de cette promotion 2016/17.
URL:https://www.osiris-conseil.com/event/supervision-d-201617-module-1-20160928
LOCATION:Osiris Conseil – Centre de formation\, 33 rue du Montoir\, Vernou\, 77670\, France
CATEGORIES:Formations,Supervision
END:VEVENT
BEGIN:VEVENT
DTSTART;VALUE=DATE:20160406
DTEND;VALUE=DATE:20160409
DTSTAMP:20260419T185627
CREATED:20160224T124232Z
LAST-MODIFIED:20160224T124232Z
UID:1012-1459900800-1460159999@www.osiris-conseil.com
SUMMARY:Supervision D 2015/16 - Module 3
DESCRIPTION:Former les coaches à la Supervision individuelle et collective\, et devenir Superviseur. \nPlus d’informations sur la Supervision. \nDurée : 7½ jours répartis sur trois modules de 2½ jours. \n\n					Ce module correspond au troisième et dernier module (2½ jours) de cette promotion.\nVoir toutes les dates des sessions de la Supervision. \n\n					Le prix indiqué s’entend HT. Soit 975€ le module ou 2768€ l’année pour – 10 salariés\, et 1290€ le module ou 3617€ l’année pour + 10 salariés. Il correspond aux 7½ jours de formation de cette promotion 2015/16.
URL:https://www.osiris-conseil.com/event/supervision-d-201516-module-3-20160406
LOCATION:Osiris Conseil – Centre de formation\, 33 rue du Montoir\, Vernou\, 77670\, France
CATEGORIES:Formations,Supervision
END:VEVENT
BEGIN:VEVENT
DTSTART;VALUE=DATE:20160127
DTEND;VALUE=DATE:20160130
DTSTAMP:20260419T185627
CREATED:20160224T123824Z
LAST-MODIFIED:20160224T123824Z
UID:1011-1453852800-1454111999@www.osiris-conseil.com
SUMMARY:Supervision D 2015/16 - Module 2
DESCRIPTION:Former les coaches à la Supervision individuelle et collective\, et devenir Superviseur. \nPlus d’informations sur la Supervision. \nDurée : 7½ jours répartis sur trois modules de 2½ jours. \n\n					Ce module correspond au second module de 2½ jours. Dernier module de cette promotion : du 6 au 8 avril 2016.\nVoir toutes les dates des sessions de la Supervision. \n\n					Le prix indiqué s’entend HT. Soit 975€ le module ou 2768€ l’année pour – 10 salariés\, et 1290€ le module ou 3617€ l’année pour + 10 salariés. Il correspond aux 7½ jours de formation de cette promotion 2015/16.
URL:https://www.osiris-conseil.com/event/supervision-d-201516-module-2-20160127
LOCATION:Osiris Conseil – Centre de formation\, 33 rue du Montoir\, Vernou\, 77670\, France
CATEGORIES:Formations,Supervision
END:VEVENT
BEGIN:VEVENT
DTSTART;VALUE=DATE:20151001
DTEND;VALUE=DATE:20151003
DTSTAMP:20260419T185627
CREATED:20160224T123021Z
LAST-MODIFIED:20160224T123621Z
UID:1010-1443657600-1443830399@www.osiris-conseil.com
SUMMARY:Supervision D 2015/16 - Module 1
DESCRIPTION:Former les coaches à la Supervision individuelle et collective\, et devenir Superviseur. \nPlus d’informations sur la Supervision. \nDurée : 7½ jours répartis sur trois modules de 2½ jours. \n\n					Ce module correspond au premier module de 2½ jours. Dernier module de cette promotion : du 6 au 8 avril 2016.\nVoir toutes les dates des sessions de la Supervision. \n\n					Le prix indiqué s’entend HT. Soit 975€ le module ou 2768€ l’année pour – 10 salariés\, et 1290€ le module ou 3617€ l’année pour + 10 salariés. Il correspond aux 7½ jours de formation de cette promotion 2015/16.
URL:https://www.osiris-conseil.com/event/supervision-d-2015-16-module-1-20151001
LOCATION:Osiris Conseil – Centre de formation\, 33 rue du Montoir\, Vernou\, 77670\, France
CATEGORIES:Formations,Supervision
END:VEVENT
END:VCALENDAR